BEGIN:VCALENDAR
VERSION:2.0
PRODID:-//1. RC Buggy Club Erfurt e. V. - ECPv6.15.20//NONSGML v1.0//EN
CALSCALE:GREGORIAN
METHOD:PUBLISH
X-ORIGINAL-URL:https://www.rcbc-erfurt.de
X-WR-CALDESC:Veranstaltungen für 1. RC Buggy Club Erfurt e. V.
REFRESH-INTERVAL;VALUE=DURATION:PT1H
X-Robots-Tag:noindex
X-PUBLISHED-TTL:PT1H
BEGIN:VTIMEZONE
TZID:Europe/Berlin
BEGIN:DAYLIGHT
TZOFFSETFROM:+0100
TZOFFSETTO:+0200
TZNAME:CEST
DTSTART:20230326T010000
END:DAYLIGHT
BEGIN:STANDARD
TZOFFSETFROM:+0200
TZOFFSETTO:+0100
TZNAME:CET
DTSTART:20231029T010000
END:STANDARD
BEGIN:DAYLIGHT
TZOFFSETFROM:+0100
TZOFFSETTO:+0200
TZNAME:CEST
DTSTART:20240331T010000
END:DAYLIGHT
BEGIN:STANDARD
TZOFFSETFROM:+0200
TZOFFSETTO:+0100
TZNAME:CET
DTSTART:20241027T010000
END:STANDARD
BEGIN:DAYLIGHT
TZOFFSETFROM:+0100
TZOFFSETTO:+0200
TZNAME:CEST
DTSTART:20250330T010000
END:DAYLIGHT
BEGIN:STANDARD
TZOFFSETFROM:+0200
TZOFFSETTO:+0100
TZNAME:CET
DTSTART:20251026T010000
END:STANDARD
END:VTIMEZONE
BEGIN:VEVENT
DTSTART;TZID=Europe/Berlin:20240503T140000
DTEND;TZID=Europe/Berlin:20240505T170000
DTSTAMP:20260425T054336
CREATED:20240209T075720Z
LAST-MODIFIED:20240319T072735Z
UID:2520-1714744800-1714928400@www.rcbc-erfurt.de
SUMMARY:MIDLAND RACE 2024
DESCRIPTION:Dieses Jahr starten wir in 5 Klassen: OR6 2WD\, OR6 4WD\, OR6 SC\, 1:5 Brushless und Losi 5iveT Stock. \nDie Gruppeneinteilung sowie der Zeitplan werden spätestens am 01.05.2024 auf dieser sowie auf unserer Facebook-Seite veröffentlicht. \nAnreise \nEs kann bereits am Freitag 03.05.2024 ab 14:00 Uhr angereist werden. An diesem Tag findet von 16-18 Uhr ein freies Training statt. \nCatering \nUnser Catering-Team wird euch von Freitag bis Sonntag versorgen. \nNennung \n​Die Nennung erfolgt ausschließlich über www.everlaps.com. \nDas Nenngeld kann direkt per PayPal (Freunde) gezahlt werden oder bei Banküberweisung binnen 5 Tagen. Nach Zahlungseingang erfolgt eine Statusänderung in der Fahrerliste von „unbestätigt“ zu „bestätigt“. Die korrekte Anmeldung zum Rennen hat jeder Teilnehmer selbst zu prüfen – bei verstreichen des Zahlungszieles wird die Nennung automatisch zurückgezogen. Nenngeld ist Reugeld welches bei Rückzug der Nennung oder Nichtteilnahme nicht erstattet. \nPayPal: rcbc-erfurt@gmx.de\nIBAN: DE35 8205 1000 0130 0315 93 \nReglement und Teilnahmebedigungen \n\nLink zum Reglement\nLink zu den Teilnahmebedingungen\n\nMit seiner Nennung akzeptiert jeder Teilnehmer das Reglement sowie die Teilnahmebedingungen\, stimmt der Verarbeitung seiner personenbezogenen Daten im Rahmen der Wettkampfabwicklung sowie der Veröffentlichung von Wettkampfergebnissen und Berichten zu und erlaubt die Fertigung von personenbezogenen Bild-\, Video- und Tonaufnahmen während der Veranstaltungen sowie deren Veröffentlichung im sportlichen Kontext.
URL:https://www.rcbc-erfurt.de/veranstaltung/midland-race-2024/
LOCATION:1. RC Buggy Club Erfurt e. V.\, Troistedter Weg\, Isseroda\, Thüringen\, 99428\, Deutschland
ATTACH;FMTTYPE=image/jpeg:https://www.rcbc-erfurt.de/wp-content/uploads/2024/02/MIDLAND-2024.jpg
ORGANIZER;CN="1. RC Buggy Club Erfurt e. V.":MAILTO:kontakt@rcbc-erfurt.de
END:VEVENT
END:VCALENDAR