BEGIN:VCALENDAR
VERSION:2.0
PRODID:-//1. RC Buggy Club Erfurt e. V. - ECPv6.15.20//NONSGML v1.0//EN
CALSCALE:GREGORIAN
METHOD:PUBLISH
X-WR-CALNAME:1. RC Buggy Club Erfurt e. V.
X-ORIGINAL-URL:https://www.rcbc-erfurt.de
X-WR-CALDESC:Veranstaltungen für 1. RC Buggy Club Erfurt e. V.
REFRESH-INTERVAL;VALUE=DURATION:PT1H
X-Robots-Tag:noindex
X-PUBLISHED-TTL:PT1H
BEGIN:VTIMEZONE
TZID:Europe/Berlin
BEGIN:DAYLIGHT
TZOFFSETFROM:+0100
TZOFFSETTO:+0200
TZNAME:CEST
DTSTART:20230326T010000
END:DAYLIGHT
BEGIN:STANDARD
TZOFFSETFROM:+0200
TZOFFSETTO:+0100
TZNAME:CET
DTSTART:20231029T010000
END:STANDARD
BEGIN:DAYLIGHT
TZOFFSETFROM:+0100
TZOFFSETTO:+0200
TZNAME:CEST
DTSTART:20240331T010000
END:DAYLIGHT
BEGIN:STANDARD
TZOFFSETFROM:+0200
TZOFFSETTO:+0100
TZNAME:CET
DTSTART:20241027T010000
END:STANDARD
BEGIN:DAYLIGHT
TZOFFSETFROM:+0100
TZOFFSETTO:+0200
TZNAME:CEST
DTSTART:20250330T010000
END:DAYLIGHT
BEGIN:STANDARD
TZOFFSETFROM:+0200
TZOFFSETTO:+0100
TZNAME:CET
DTSTART:20251026T010000
END:STANDARD
END:VTIMEZONE
BEGIN:VEVENT
DTSTART;TZID=Europe/Berlin:20240601T080000
DTEND;TZID=Europe/Berlin:20240601T200000
DTSTAMP:20260425T025506
CREATED:20240209T084015Z
LAST-MODIFIED:20240209T084015Z
UID:2533-1717228800-1717272000@www.rcbc-erfurt.de
SUMMARY:3. Lauf Rennserie Nord
DESCRIPTION:Weitere Informationen folgen in Kürze.
URL:https://www.rcbc-erfurt.de/veranstaltung/3-lauf-rennserie-nord/
LOCATION:1. RC Buggy Club Erfurt e. V.\, Troistedter Weg\, Isseroda\, Thüringen\, 99428\, Deutschland
ATTACH;FMTTYPE=image/jpeg:https://www.rcbc-erfurt.de/wp-content/uploads/2024/02/logo2.jpg
ORGANIZER;CN="Rennserie Nord e. V.":MAILTO:info@rsn-ev.de
END:VEVENT
BEGIN:VEVENT
DTSTART;TZID=Europe/Berlin:20240601T110000
DTEND;TZID=Europe/Berlin:20240601T160000
DTSTAMP:20260425T025506
CREATED:20240209T081854Z
LAST-MODIFIED:20240209T081854Z
UID:2529-1717239600-1717257600@www.rcbc-erfurt.de
SUMMARY:Sportvereinstag Erfurt
DESCRIPTION:Wir stellen uns auf dem Sportvereinstag in Erfurt vor. Weitere Informationen folgen.
URL:https://www.rcbc-erfurt.de/veranstaltung/sportvereinstag-erfurt/
LOCATION:egapark Erfurt\, Gothaer Straße 38\, Erfurt\, Thüringen\, 99094\, Deutschland
ATTACH;FMTTYPE=image/jpeg:https://www.rcbc-erfurt.de/wp-content/uploads/2024/02/EGA_Sportvereinstag.jpg
END:VEVENT
END:VCALENDAR